BEGIN:VCALENDAR
VERSION:2.0
PRODID:-//wp-events-plugin.com//7.2.3.1//EN
TZID:Europe/Berlin
X-WR-TIMEZONE:Europe/Berlin
BEGIN:VEVENT
UID:1-3035@spd-mainz.de
DTSTART;TZID=Europe/Berlin:20260308T183000
DTEND;TZID=Europe/Berlin:20260308T203000
DTSTAMP:20260302T093707Z
URL:https://spd-mainz.de/termine/events/aus-liebe-zur-vielfalt-mit-malu-dr
 eyer/
SUMMARY:Aus Liebe zur Vielfalt! Mit Malu Dreyer
DESCRIPTION:AUS LIEBE ZUR VIELFALT!\n\nEngagierte Mainzerinnen und Mainzer 
 mit Migrationsgeschichte im Gespräch mit Malu Dreyer\, Ministerpräsident
 in a. D.\n\n&nbsp\;\n\nSonntag\, den 8. März\, um 18.30 Uhr im Katholisch
 en Gemeindezentrum St. Joseph\, Mainz-Neustadt\, Ecke Josefsstraße/Raimun
 distraße.\n\n&nbsp\;\n\n37\,6 % aller Mainzerinnen und Mainzer haben eine
 n Migrationshintergrund (Stand 31.10.2025). Knapp die Hälfte davon hat di
 e deutsche Staatsbürgerschaft und damit das aktive und passive Wahlrecht.
  In vielen zivilgesellschaftlichen Organisationen engagieren sie sich und 
 tragen damit dazu bei\, dass Mainz eine vielfältige Stadt ist und der ges
 ellschaftliche Zusammenhalt erhalten und weiter vertieft wird.\n\n&nbsp\;\
 n\nDieses Engagement ist für unsere demokratische Stadtgemeinschaft von u
 nschätzbarem Wert. An diesem Abend diskutieren Donya Gilan\, Viktoriya Jo
 st\, Miguel Vicente\, Alper Kömür und Mehdi Jafari-Gorzini mit Malu Drey
 er darüber\, welche Erfahrungen sie dabei machen\, wo sozialdemokratische
  Politik sie unterstützt und welche Perspektiven für die Zukunft existie
 ren.\n\nZwischen den Gesprächsrunden singt und spielt Mohammad Reza Azadp
 our.\n\n&nbsp\;\n\nMichael Ebling\, unser Direktkandidat im Wahlkreis Main
 z-Innenstadt\, spricht ein Grußwort.\n\nAußerdem stellt sich eine Wähle
 rinnen- und Wählerinitiative für Alexander Schweitzer vor.\n\n&nbsp\;\n\
 nAlle Beteiligten stehen im zweiten Teil der Veranstaltung für Begegnung 
 und Vernetzung zur Verfügung.
CATEGORIES:SPD Mainz,SPD Mainz-Neustadt
END:VEVENT
BEGIN:VTIMEZONE
TZID:Europe/Berlin
X-LIC-LOCATION:Europe/Berlin
BEGIN:STANDARD
DTSTART:20251026T020000
TZOFFSETFROM:+0200
TZOFFSETTO:+0100
TZNAME:CET
END:STANDARD
END:VTIMEZONE
END:VCALENDAR