BEGIN:VCALENDAR
VERSION:2.0
PRODID:-//wp-events-plugin.com//7.2.3.1//EN
TZID:Europe/Berlin
X-WR-TIMEZONE:Europe/Berlin
BEGIN:VEVENT
UID:1-3034@spd-mainz.de
DTSTART;TZID=Europe/Berlin:20260308T110000
DTEND;TZID=Europe/Berlin:20260308T130000
DTSTAMP:20260302T093520Z
URL:https://spd-mainz.de/termine/events/frauentag-mit-malu-dreyer/
SUMMARY:Frauentag mit Malu Dreyer
DESCRIPTION:Frauentag mit Malu Dreyer – Warum Engagement heute zählt\n\n
 &nbsp\;\n\nSonntag\, 8. März\, um 11:00 Uhr im Mainzer Unterhaus.\n\n&nbs
 p\;\n\nDer Vormittag macht sichtbar\, wie wichtig Engagement für die Glei
 chstellung von Frauen heute ist\, und warum es dabei nicht um ein reines F
 rauenthema geht\, sondern um ein gesellschaftliches Anliegen\, das uns all
 e betrifft.\n\nMichael Ebling eröffnet die Matinée. Im Anschluss geht D
 oris Ahnen im Gespräch mit Malu Dreyer der Frage nach\, warum Engagement
  für Gleichberechtigung gerade jetzt wichtiger ist denn je.\n\nDanach kom
 men die beiden mit Petra Gerster ins Gespräch.\n\n&nbsp\;\n\nAnschließen
 d laden Thementische zum offenen Austausch ein: Wir wollen mit engagiert
 en Gästen aus unterschiedlichen Bereichen ins Gespräch kommen und vielf
 ältige Perspektiven kennenlernen – zum Beispiel zu Medien und Rollenbil
 dern\, Sport\, Kultur\, Vielfalt und Zusammenhalt.\n\nWir freuen uns auf d
 ie Gespräche mit Yvonne Wuttke\, Fabienne Michel\, Petra Gerster\, Sabine
  Hartel-Schenk\, Michael Ebling\, Doris Ahnen\, Malu Dreyer\, Kersten Autz
 e-Gutte\, Sima Hosseini\, Lisa Wald und Aline Kreuser.\n\n&nbsp\;\n\nZum A
 usklang bleibt Zeit für Begegnung und Vernetzung bei Kaffee\, Softgeträn
 ken und kleinen Snacks.\n\nZur besseren Planung bitten wir um Anmeldung.
CATEGORIES:ASF Mainz,Doris Ahnen,SPD Mainz
LOCATION:Unterhaus Mainz\, Münsterstr. 7  \, Mainz\, ·55116
GEO:49.998378;8.265834
X-APPLE-STRUCTURED-LOCATION;VALUE=URI;X-ADDRESS=Münsterstr. 7  \, Mainz\, 
 ·55116\, Deutschland;X-APPLE-RADIUS=100;X-TITLE=Unterhaus Mainz:geo:49.99
 8378,8.265834
END:VEVENT
BEGIN:VTIMEZONE
TZID:Europe/Berlin
X-LIC-LOCATION:Europe/Berlin
BEGIN:STANDARD
DTSTART:20251026T020000
TZOFFSETFROM:+0200
TZOFFSETTO:+0100
TZNAME:CET
END:STANDARD
END:VTIMEZONE
END:VCALENDAR